BEGIN:VCALENDAR
VERSION:2.0
PRODID:spatie/icalendar-generator
DESCRIPTION:Events from Multi Branch Driving School Website
X-WR-CALDESC:Events from Multi Branch Driving School Website
REFRESH-INTERVAL;VALUE=DURATION:PT1440M
X-PUBLISHED-TTL:PT1440M
BEGIN:VTIMEZONE
TZID:Etc/GMT+0
BEGIN:STANDARD
DTSTART:20211013T000000Z
TZOFFSETFROM:+0000
TZOFFSETTO:+0000
END:STANDARD
END:VTIMEZONE
BEGIN:VTIMEZONE
TZID:UTC
BEGIN:STANDARD
DTSTART:20250723T173344Z
TZOFFSETFROM:+0000
TZOFFSETTO:+0000
END:STANDARD
END:VTIMEZONE
BEGIN:VEVENT
UID:115-7
DTSTAMP:20260419T173344Z
SUMMARY:Eidul Adha
LOCATION:
ORGANIZER;CN=admin:MAILTO:admin@saferoads.ph
DTSTART;TZID=Etc/GMT+0;VALUE=DATE:20220710
DTEND;TZID=Etc/GMT+0;VALUE=DATE:20220711
X-ALT-DESC;FMTTYPE=TEXT/HTML:Philippine National Holiday
CATEGORIES:Holiday
URL;VALUE=URI:http://multibranchtemp.driving.com.ph/mc-events/eidul-adha/?m
 c_id=115
END:VEVENT
END:VCALENDAR