BEGIN:VCALENDAR
VERSION:2.0
PRODID:spatie/icalendar-generator
DESCRIPTION:Events from Multi Branch Driving School Website
X-WR-CALDESC:Events from Multi Branch Driving School Website
REFRESH-INTERVAL;VALUE=DURATION:PT1440M
X-PUBLISHED-TTL:PT1440M
BEGIN:VTIMEZONE
TZID:Etc/GMT+0
BEGIN:STANDARD
DTSTART:20210915T000000Z
TZOFFSETFROM:+0000
TZOFFSETTO:+0000
END:STANDARD
END:VTIMEZONE
BEGIN:VTIMEZONE
TZID:UTC
BEGIN:STANDARD
DTSTART:20250723T173131Z
TZOFFSETFROM:+0000
TZOFFSETTO:+0000
END:STANDARD
END:VTIMEZONE
BEGIN:VEVENT
UID:111-3
DTSTAMP:20260419T173131Z
SUMMARY:Independence Day
LOCATION:
ORGANIZER;CN=1stsafety:MAILTO:enawd@yahoo.com
DTSTART;TZID=Etc/GMT+0;VALUE=DATE:20220612
DTEND;TZID=Etc/GMT+0;VALUE=DATE:20220613
X-ALT-DESC;FMTTYPE=TEXT/HTML:Philippine Independence Day. A special Holiday
CATEGORIES:Holiday
URL;VALUE=URI:http://multibranchtemp.driving.com.ph/mc-events/independence-
 day/?mc_id=111
END:VEVENT
END:VCALENDAR